BEGIN:VCALENDAR
VERSION:2.0
PRODID:-//Brett.Ullman - ECPv6.15.20//NONSGML v1.0//EN
CALSCALE:GREGORIAN
METHOD:PUBLISH
X-WR-CALNAME:Brett.Ullman
X-ORIGINAL-URL:https://www.brettullman.com
X-WR-CALDESC:Events for Brett.Ullman
REFRESH-INTERVAL;VALUE=DURATION:PT1H
X-Robots-Tag:noindex
X-PUBLISHED-TTL:PT1H
BEGIN:VTIMEZONE
TZID:America/Toronto
BEGIN:DAYLIGHT
TZOFFSETFROM:-0500
TZOFFSETTO:-0400
TZNAME:EDT
DTSTART:20210314T070000
END:DAYLIGHT
BEGIN:STANDARD
TZOFFSETFROM:-0400
TZOFFSETTO:-0500
TZNAME:EST
DTSTART:20211107T060000
END:STANDARD
BEGIN:DAYLIGHT
TZOFFSETFROM:-0500
TZOFFSETTO:-0400
TZNAME:EDT
DTSTART:20220313T070000
END:DAYLIGHT
BEGIN:STANDARD
TZOFFSETFROM:-0400
TZOFFSETTO:-0500
TZNAME:EST
DTSTART:20221106T060000
END:STANDARD
BEGIN:DAYLIGHT
TZOFFSETFROM:-0500
TZOFFSETTO:-0400
TZNAME:EDT
DTSTART:20230312T070000
END:DAYLIGHT
BEGIN:STANDARD
TZOFFSETFROM:-0400
TZOFFSETTO:-0500
TZNAME:EST
DTSTART:20231105T060000
END:STANDARD
END:VTIMEZONE
BEGIN:VEVENT
DTSTART;TZID=America/Toronto:20221206T190000
DTEND;TZID=America/Toronto:20221206T210000
DTSTAMP:20260419T114235
CREATED:20220817T193038Z
LAST-MODIFIED:20220817T193038Z
UID:249960-1670353200-1670360400@www.brettullman.com
SUMMARY:Glenmore Christian Academy - Calgary
DESCRIPTION:
URL:https://www.brettullman.com/event/glenmore-christian-academy-calgary-5/
CATEGORIES:Walking Wounded
END:VEVENT
END:VCALENDAR